View In:
ArcGIS JavaScript
ArcGIS Online Map Viewer
ArcGIS Earth
ArcMap
View Footprint In:
ArcGIS Online Map Viewer
Service Description: Cabarrus County Grid from 0 to 125 representing shaded area. Where the values: 0=dark and 125=light.
Name: Geocortex/Geocortex_Hillshade
Description: Cabarrus County Grid from 0 to 125 representing shaded area. Where the values: 0=dark and 125=light.
Single Fused Map Cache: false
Extent:
XMin: 1468120
YMin: 525660
XMax: 1614460
YMax: 643860
Spatial Reference: 102719
(2264)
Initial Extent:
XMin: 1468120
YMin: 525660
XMax: 1614460
YMax: 643860
Spatial Reference: 102719
(2264)
Full Extent:
XMin: 1468120
YMin: 525660
XMax: 1614460
YMax: 643860
Spatial Reference: 102719
(2264)
Pixel Size X: 20.0
Pixel Size Y: 20.0
Band Count: 1
Pixel Type: S8
RasterFunction Infos: {"name":"None","description":"","help":""}
Mensuration Capabilities: Basic
Has Histograms: true
Has Colormap: false
Has Multi Dimensions : false
Rendering Rule:
Min Scale: 0
Max Scale: 0
Copyright Text:
Service Data Type: esriImageServiceDataTypeGeneric
Min Values: 0
Max Values: 125
Mean Values: 86.53577253044952
Standard Deviation Values: 13.788982877820605
Object ID Field:
Fields:
None
Default Mosaic Method: Center
Allowed Mosaic Methods:
SortField:
SortValue: null
Mosaic Operator: First
Default Compression Quality: 75
Default Resampling Method: Bilinear
Max Record Count: null
Max Image Height: 4100
Max Image Width: 15000
Max Download Image Count: null
Max Mosaic Image Count: null
Allow Raster Function: true
Allow Compute TiePoints: false
Supports Statistics: false
Supports Advanced Queries: false
Use StandardizedQueries: true
Raster Type Infos:
Name: Raster Dataset
Description: Supports all ArcGIS Raster Datasets
Help:
Has Raster Attribute Table: false
Edit Fields Info: null
Ownership Based AccessControl For Rasters: null
Child Resources:
Info
Histograms
Key Properties
Legend
MultiDimensionalInfo
rasterFunctionInfos
Supported Operations:
Export Image
Identify
Measure
Compute Histograms
Compute Statistics Histograms
Get Samples
Compute Class Statistics
Query Boundary