View In:
ArcGIS JavaScript
ArcGIS Online Map Viewer
ArcGIS Earth
ArcMap
View Footprint In:
ArcGIS Online Map Viewer
Service Description: This metadata document describes the processing of
filtered LiDAR data from the existing North Carolina
Floodplain Mapping LiDAR Bare Earth date.
Name: Geocortex/Geocortex_Elevation
Description: This metadata document describes the processing of
filtered LiDAR data from the existing North Carolina
Floodplain Mapping LiDAR Bare Earth date.
Single Fused Map Cache: false
Extent:
XMin: 1459935
YMin: 509935
XMax: 1630065
YMax: 660065
Spatial Reference: 102719
(2264)
Initial Extent:
XMin: 1459935
YMin: 509935
XMax: 1630065
YMax: 660065
Spatial Reference: 102719
(2264)
Full Extent:
XMin: 1459935
YMin: 509935
XMax: 1630065
YMax: 660065
Spatial Reference: 102719
(2264)
Pixel Size X: 10.0
Pixel Size Y: 10.0
Band Count: 1
Pixel Type: F32
RasterFunction Infos: {"name":"None","description":"","help":""}
Mensuration Capabilities: Basic
Has Histograms: true
Has Colormap: false
Has Multi Dimensions : false
Rendering Rule:
Min Scale: 0
Max Scale: 0
Copyright Text:
Service Data Type: esriImageServiceDataTypeGeneric
Min Values: 0
Max Values: 951.280029296875
Mean Values: 663.0531212874906
Standard Deviation Values: 87.21226049695558
Object ID Field:
Fields:
None
Default Mosaic Method: Center
Allowed Mosaic Methods:
SortField:
SortValue: null
Mosaic Operator: First
Default Compression Quality: 75
Default Resampling Method: Bilinear
Max Record Count: null
Max Image Height: 4100
Max Image Width: 15000
Max Download Image Count: null
Max Mosaic Image Count: null
Allow Raster Function: true
Allow Compute TiePoints: false
Supports Statistics: false
Supports Advanced Queries: false
Use StandardizedQueries: true
Raster Type Infos:
Name: Raster Dataset
Description: Supports all ArcGIS Raster Datasets
Help:
Has Raster Attribute Table: false
Edit Fields Info: null
Ownership Based AccessControl For Rasters: null
Child Resources:
Info
Histograms
Key Properties
Legend
MultiDimensionalInfo
rasterFunctionInfos
Supported Operations:
Export Image
Identify
Measure
Compute Histograms
Compute Statistics Histograms
Get Samples
Compute Class Statistics
Query Boundary