{
 "currentVersion": 10.6,
 "serviceDescription": "Aerials/2019",
 "name": "Aerials/2019",
 "description": "",
 "extent": {
  "xmin": 1466994,
  "ymin": 522850.5,
  "xmax": 1615458.75,
  "ymax": 645739.5,
  "spatialReference": {
   "wkt": "PROJCS[\"NAD_1983_North_Carolina\",GEOGCS[\"GCS_NAD83_1986\",DATUM[\"D_North_American_1983\",SPHEROID[\"GRS_1980\",6378137.0,298.257222101]],PRIMEM[\"Greenwich\",0.0],UNIT[\"Degree\",0.0174532925199433]],PROJECTION[\"Lambert_Conformal_Conic\"],PARAMETER[\"false_easting\",2000000.002616646],PARAMETER[\"false_northing\",0.0],PARAMETER[\"central_meridian\",-79.0],PARAMETER[\"standard_parallel_1\",34.333333333333],PARAMETER[\"standard_parallel_2\",36.166666666667],PARAMETER[\"latitude_of_origin\",33.75],UNIT[\"US survey foot\",0.3048006096012223]]"
  }
 },
 "initialExtent": {
  "xmin": 1466994,
  "ymin": 522850.5,
  "xmax": 1615458.75,
  "ymax": 645739.5,
  "spatialReference": {
   "wkt": "PROJCS[\"NAD_1983_North_Carolina\",GEOGCS[\"GCS_NAD83_1986\",DATUM[\"D_North_American_1983\",SPHEROID[\"GRS_1980\",6378137.0,298.257222101]],PRIMEM[\"Greenwich\",0.0],UNIT[\"Degree\",0.0174532925199433]],PROJECTION[\"Lambert_Conformal_Conic\"],PARAMETER[\"false_easting\",2000000.002616646],PARAMETER[\"false_northing\",0.0],PARAMETER[\"central_meridian\",-79.0],PARAMETER[\"standard_parallel_1\",34.333333333333],PARAMETER[\"standard_parallel_2\",36.166666666667],PARAMETER[\"latitude_of_origin\",33.75],UNIT[\"US survey foot\",0.3048006096012223]]"
  }
 },
 "fullExtent": {
  "xmin": 1466994,
  "ymin": 522850.5,
  "xmax": 1615458.75,
  "ymax": 645739.5,
  "spatialReference": {
   "wkt": "PROJCS[\"NAD_1983_North_Carolina\",GEOGCS[\"GCS_NAD83_1986\",DATUM[\"D_North_American_1983\",SPHEROID[\"GRS_1980\",6378137.0,298.257222101]],PRIMEM[\"Greenwich\",0.0],UNIT[\"Degree\",0.0174532925199433]],PROJECTION[\"Lambert_Conformal_Conic\"],PARAMETER[\"false_easting\",2000000.002616646],PARAMETER[\"false_northing\",0.0],PARAMETER[\"central_meridian\",-79.0],PARAMETER[\"standard_parallel_1\",34.333333333333],PARAMETER[\"standard_parallel_2\",36.166666666667],PARAMETER[\"latitude_of_origin\",33.75],UNIT[\"US survey foot\",0.3048006096012223]]"
  }
 },
 "pixelSizeX": 0.75,
 "pixelSizeY": 0.75,
 "bandCount": 3,
 "pixelType": "U8",
 "minPixelSize": 0,
 "maxPixelSize": 0,
 "copyrightText": "",
 "serviceDataType": "esriImageServiceDataTypeRGB",
 "minValues": [
  12,
  26,
  27
 ],
 "maxValues": [
  255,
  255,
  255
 ],
 "meanValues": [
  177.18874888634306,
  168.82614229349696,
  154.81837851597288
 ],
 "stdvValues": [
  63.275298549809946,
  68.68800154773176,
  78.31369110735609
 ],
 "objectIdField": "",
 "fields": [],
 "capabilities": "Mensuration,Image,Metadata",
 "defaultMosaicMethod": "Center",
 "allowedMosaicMethods": "",
 "sortField": "",
 "sortValue": null,
 "mosaicOperator": "First",
 "defaultCompressionQuality": 75,
 "defaultResamplingMethod": "Bilinear",
 "maxImageHeight": 4100,
 "maxImageWidth": 15000,
 "allowRasterFunction": true,
 "rasterFunctionInfos": [
  {
   "name": "None",
   "description": "",
   "help": ""
  }
 ],
 "rasterTypeInfos": [
  {
   "name": "Raster Dataset",
   "description": "Supports all ArcGIS Raster Datasets",
   "help": ""
  }
 ],
 "mensurationCapabilities": "Basic",
 "hasHistograms": true,
 "hasColormap": false,
 "hasRasterAttributeTable": false,
 "minScale": 0,
 "maxScale": 0,
 "exportTilesAllowed": false,
 "hasMultidimensions": false,
 "supportsStatistics": false,
 "supportsAdvancedQueries": false,
 "editFieldsInfo": null,
 "ownershipBasedAccessControlForRasters": null,
 "allowComputeTiePoints": false,
 "useStandardizedQueries": true,
 "advancedQueryCapabilities": {
  "useStandardizedQueries": true,
  "supportsStatistics": false,
  "supportsOrderBy": false,
  "supportsDistinct": false,
  "supportsPagination": false
 },
 "spatialReference": {
  "wkt": "PROJCS[\"NAD_1983_North_Carolina\",GEOGCS[\"GCS_NAD83_1986\",DATUM[\"D_North_American_1983\",SPHEROID[\"GRS_1980\",6378137.0,298.257222101]],PRIMEM[\"Greenwich\",0.0],UNIT[\"Degree\",0.0174532925199433]],PROJECTION[\"Lambert_Conformal_Conic\"],PARAMETER[\"false_easting\",2000000.002616646],PARAMETER[\"false_northing\",0.0],PARAMETER[\"central_meridian\",-79.0],PARAMETER[\"standard_parallel_1\",34.333333333333],PARAMETER[\"standard_parallel_2\",36.166666666667],PARAMETER[\"latitude_of_origin\",33.75],UNIT[\"US survey foot\",0.3048006096012223]]"
 }
}
